BEGIN:VCALENDAR
VERSION:2.0
PRODID:-//ChamberMaster//Event Calendar 2.0//EN
METHOD:PUBLISH
X-PUBLISHED-TTL:P3D
REFRESH-INTERVAL:P3D
CALSCALE:GREGORIAN
BEGIN:VEVENT
DTSTART:20190709T153000Z
DTEND:20190709T163000Z
X-MICROSOFT-CDO-ALLDAYEVENT:FALSE
SUMMARY:Book Buddies
DESCRIPTION:Primary grade readers will be paired with a tween/teen mentor to practice their reading skills. Registration required.
X-ALT-DESC;FMTTYPE=text/html:Primary grade readers will be paired with a tween/teen mentor to practice their reading skills. Registration required.
LOCATION:EAST LAKE COMMUNITY LIBRARY 4125 East Lake Road Palm Harbor\, FL 34685 727-773-2665 http://www.eastlakelibrary.org
UID:e.3278.1927
SEQUENCE:3
DTSTAMP:20260423T202318Z
URL:http://palmharborcc.chambermaster.com/events/details/book-buddies-1927
END:VEVENT

END:VCALENDAR
