BEGIN:VCALENDAR
VERSION:2.0
PRODID:-//ChamberMaster//Event Calendar 2.0//EN
METHOD:PUBLISH
X-PUBLISHED-TTL:P3D
REFRESH-INTERVAL:P3D
CALSCALE:GREGORIAN
BEGIN:VEVENT
DTSTART:20190502T113000Z
DTEND:20190502T130000Z
X-MICROSOFT-CDO-ALLDAYEVENT:FALSE
SUMMARY:Coffee for Commerce
DESCRIPTION:Enhance your professional network & start the day off right! \n\nCoffee for Commerce is a great way to meet fellow Chamber Partners\, and grow your business.
X-ALT-DESC;FMTTYPE=text/html:<br />\n<span style="color: rgb(51\, 51\, 51)\; font-size: 13px\; font-family: &quot\;times new roman&quot\;\;"><span style="font-size: 18px\;"><em><span style="background: white\;"><span style="color: black\;">Enhance your professional network &amp\; start the day off right!&nbsp\;</span></span></em></span></span><br style="color: rgb(51\, 51\, 51)\; font-family: sans-serif\, Arial\, Verdana\, &quot\;Trebuchet MS&quot\;\; font-size: 13px\;" />\n<span style="color: rgb(51\, 51\, 51)\; font-size: 13px\; font-family: &quot\;times new roman&quot\;\;"><span style="font-size: 18px\;"><em><strong style="box-sizing: border-box\; text-size-adjust: none\;">Coffee for Commerce&nbsp\;</strong></em></span></span><em style="color: rgb(51\, 51\, 51)\; font-family: sans-serif\, Arial\, Verdana\, &quot\;Trebuchet MS&quot\;\; font-size: 13px\;"><span style="background: white\;"><span style="color: black\;"><span style="font-family: &quot\;open sans&quot\;\, serif\;"><span style="font-size: 14pt\;">is&nbsp\;</span></span></span></span></em><span style="color: rgb(51\, 51\, 51)\; font-size: 13px\; font-family: &quot\;times new roman&quot\;\;"><span style="font-size: 18px\;"><em>a great way to meet fellow Chamber Partners\, and grow your business.</em></span></span><br font-size:="" style="color: rgb(51\, 51\, 51)\; font-family: sans-serif\, Arial\, Verdana\, &quot\;Trebuchet MS&quot\;\; font-size: 13px\;" trebuchet="" />\n<br font-size:="" style="color: rgb(51\, 51\, 51)\; font-family: sans-serif\, Arial\, Verdana\, &quot\;Trebuchet MS&quot\;\; font-size: 13px\;" trebuchet="" />\n<br font-size:="" style="color: rgb(51\, 51\, 51)\; font-family: sans-serif\, Arial\, Verdana\, " trebuchet="" />\n<br font-size:="" style="color: rgb(51\, 51\, 51)\; font-family: sans-serif\, Arial\, Verdana\, " trebuchet="" />\n<br font-size:="" style="color: rgb(51\, 51\, 51)\; font-family: sans-serif\, Arial\, Verdana\, " trebuchet="" />\n&nbsp\;
LOCATION:Palm Harbor Library 2330 Nebraska Ave. Palm Harbor
UID:e.3278.32
SEQUENCE:3
DTSTAMP:20260426T012644Z
URL:http://palmharborcc.chambermaster.com/events/details/coffee-for-commerce-05-02-2019-32
END:VEVENT

END:VCALENDAR
