BEGIN:VCALENDAR
VERSION:2.0
PRODID:-//ChamberMaster//Event Calendar 2.0//EN
METHOD:PUBLISH
X-PUBLISHED-TTL:P3D
REFRESH-INTERVAL:P3D
CALSCALE:GREGORIAN
BEGIN:VEVENT
DTSTART:20180503T113000Z
DTEND:20180503T130000Z
X-MICROSOFT-CDO-ALLDAYEVENT:FALSE
SUMMARY:Coffee for Commerce
DESCRIPTION:Coffee for Commerce\n\n\n\nPalm Harbor Library\n\n233 Nebraska Ave. \n\nPalm Harbor\n\n\n\nWe want to give our appreciation to Gene Coppola & The Palm Harbor Library for supplying breakfast
X-ALT-DESC;FMTTYPE=text/html:<strong><span style="font-size:20px\;">Coffee for Commerce</span></strong><br />\n<br />\nPalm Harbor Library<br />\n233 Nebraska Ave.&nbsp\;<br />\nPalm Harbor<br />\n<br />\nWe want to give our appreciation to Gene Coppola &amp\; The Palm Harbor Library for supplying breakfast&nbsp\;&nbsp\;&nbsp\;&nbsp\;
LOCATION:
UID:e.3278.10
SEQUENCE:3
DTSTAMP:20260425T224059Z
URL:http://palmharborcc.chambermaster.com/events/details/coffee-for-commerce-10
END:VEVENT

END:VCALENDAR
