BEGIN:VCALENDAR
VERSION:2.0
PRODID:-//ChamberMaster//Event Calendar 2.0//EN
METHOD:PUBLISH
X-PUBLISHED-TTL:P3D
REFRESH-INTERVAL:P3D
CALSCALE:GREGORIAN
BEGIN:VEVENT
DTSTART:20190610T170000Z
DTEND:20190610T190000Z
X-MICROSOFT-CDO-ALLDAYEVENT:FALSE
SUMMARY:Fiber Arts
DESCRIPTION:Quilting\, crocheting\, knitting\, needlepoint\, etc....all projects are welcome!! Please bring a project you are creating and share it with the group. Call for details about where we will be meeting: 727-773-2665.
X-ALT-DESC;FMTTYPE=text/html:Quilting\, crocheting\, knitting\, needlepoint\, etc....all projects are welcome!! Please bring a project you are creating and share it with the group. Call for details about where we will be meeting: 727-773-2665.
LOCATION:East Lake Community Library 4125 East Lake Road Palm Harbor\, FL 34685 727-773-2665 http://www.eastlakelibrary.org
UID:e.3278.1837
SEQUENCE:3
DTSTAMP:20260421T032220Z
URL:http://palmharborcc.chambermaster.com/events/details/fiber-arts-1837
END:VEVENT

END:VCALENDAR
