BEGIN:VCALENDAR
VERSION:2.0
PRODID:-//ChamberMaster//Event Calendar 2.0//EN
METHOD:PUBLISH
X-PUBLISHED-TTL:P3D
REFRESH-INTERVAL:P3D
CALSCALE:GREGORIAN
BEGIN:VEVENT
DTSTART:20190406T160000Z
DTEND:20190406T180000Z
X-MICROSOFT-CDO-ALLDAYEVENT:FALSE
SUMMARY:Hamil-"Tea"
DESCRIPTION:Are you craving some Hamilton fun? Did you miss the musical in Tampa? Join us at the library for our Hamil-"Tea"! This adults-only special event includes tea and goodies\, songs from the award-winning musical\, trivia games\, and Silent Auction gift baskets! We are asking for a $20 donation to the library for this event. Sign-up at the library to reserve your seat. All proceeds will go towards the restoration of the East Lake Community Library Butterfly Garden.
X-ALT-DESC;FMTTYPE=text/html:Are you craving some Hamilton fun? Did you miss the musical in Tampa? Join us at the library for our Hamil-&quot\;Tea&quot\;! This adults-only special event includes tea and goodies\, songs from the award-winning musical\, trivia games\, and Silent Auction gift baskets! We are asking for a $20 donation to the library for this event. Sign-up at the library to reserve your seat. All proceeds will go towards the restoration of the East Lake Community Library Butterfly Garden.
LOCATION:EAST LAKE COMMUNITY LIBRARY 4125 East Lake Road Palm Harbor\, FL 34685 727-773-2665 http://www.eastlakelibrary.org
UID:e.3278.1702
SEQUENCE:3
DTSTAMP:20260420T003303Z
URL:http://palmharborcc.chambermaster.com/events/details/hamil-tea-1702
END:VEVENT

END:VCALENDAR
