BEGIN:VCALENDAR
VERSION:2.0
PRODID:-//ChamberMaster//Event Calendar 2.0//EN
METHOD:PUBLISH
X-PUBLISHED-TTL:P3D
REFRESH-INTERVAL:P3D
CALSCALE:GREGORIAN
BEGIN:VEVENT
DTSTART:20180517T153000Z
DTEND:20180517T170000Z
X-MICROSOFT-CDO-ALLDAYEVENT:FALSE
SUMMARY:Networking Lunch
DESCRIPTION:Please join us at Fairway Pizza for our May Networking Lunch \n\nFairway Pizza... 2901 US-19 ALT...  (727) 772-7060\n\nUpbeat\, group-friendly pizzeria with lunch specials\,\n\nall-you-can-eat spaghetti nights & happy hours
X-ALT-DESC;FMTTYPE=text/html:<span style="color: rgb(51\, 51\, 51)\; font-family: sans-serif\, Arial\, Verdana\, &quot\;Trebuchet MS&quot\;\; font-size: 13px\; background-color: rgb(255\, 255\, 255)\;">Please join us at Fairway Pizza for our May Networking Lunch&nbsp\;<br />\nFairway Pizza...&nbsp\;</span><span style="font-size: small\; background-color: rgb(255\, 255\, 255)\; color: rgb(34\, 34\, 34)\; font-family: Roboto\, arial\, sans-serif\;">2901 US-19 ALT...&nbsp\;</span><span class="w8qArf" style="font-size: small\; background-color: rgb(255\, 255\, 255)\; font-weight: bolder\; color: rgb(34\, 34\, 34)\; font-family: Roboto\, arial\, sans-serif\;">&nbsp\;</span><span class="LrzXr zdqRlf kno-fv" style="font-size: small\; background-color: rgb(255\, 255\, 255)\; color: rgb(34\, 34\, 34)\; font-family: Roboto\, arial\, sans-serif\;"><span data-dtype="d3ifr" data-local-attribute="d3ph">(727) 772-7060</span></span><br style="color: rgb(51\, 51\, 51)\; font-family: sans-serif\, Arial\, Verdana\, &quot\;Trebuchet MS&quot\;\; font-size: 13px\;" />\n<span style="font-size: small\; background-color: rgb(255\, 255\, 255)\; color: rgb(34\, 34\, 34)\; font-family: Roboto\, arial\, sans-serif\;">Upbeat\, group-friendly pizzeria with lunch specials\,<br />\nall-you-can-eat spaghetti nights &amp\; happy hours</span>
LOCATION:
UID:e.3278.12
SEQUENCE:3
DTSTAMP:20260424T205900Z
URL:http://palmharborcc.chambermaster.com/events/details/networking-lunch-12
END:VEVENT

END:VCALENDAR
