BEGIN:VCALENDAR
VERSION:2.0
PRODID:-//ChamberMaster//Event Calendar 2.0//EN
METHOD:PUBLISH
X-PUBLISHED-TTL:P3D
REFRESH-INTERVAL:P3D
CALSCALE:GREGORIAN
BEGIN:VEVENT
DTSTART:20181006T140000Z
DTEND:20181006T200000Z
X-MICROSOFT-CDO-ALLDAYEVENT:FALSE
SUMMARY:Solar OPEN HOUSE
DESCRIPTION:Come join us for our OPEN HOUSE on our Solar Project - learn how we went with a Florida Co-op to save money on installing our fully functioning solar panels.
X-ALT-DESC;FMTTYPE=text/html:<br />\n<span style="color:rgb(29\, 33\, 41)\; font-family:helvetica\,arial\,sans-serif\; font-size:14px">Come join us for our OPEN HOUSE on our Solar Project - learn how we went with a Florida Co-op to save money on installing our fully functioning solar panels.</span><br />\n<br />\n&nbsp\;
LOCATION:Lipply Real Estate 3302 Alt 19 Palm Harbor\, FL 34683 Corner of Sparrow and Alt 19\, just north of Alderman Rd.
UID:e.3278.1205
SEQUENCE:3
DTSTAMP:20260422T053716Z
URL:http://palmharborcc.chambermaster.com/events/details/solar-open-house-1205
END:VEVENT

END:VCALENDAR
